BEGIN:VCALENDAR
VERSION:2.0
PRODID:-//Hultzer Coaching - ECPv6.15.20//NONSGML v1.0//EN
CALSCALE:GREGORIAN
METHOD:PUBLISH
X-WR-CALNAME:Hultzer Coaching
X-ORIGINAL-URL:https://hultzercoaching.nl
X-WR-CALDESC:Evenementen voor Hultzer Coaching
REFRESH-INTERVAL;VALUE=DURATION:PT1H
X-Robots-Tag:noindex
X-PUBLISHED-TTL:PT1H
BEGIN:VTIMEZONE
TZID:Europe/Amsterdam
BEGIN:DAYLIGHT
TZOFFSETFROM:+0100
TZOFFSETTO:+0200
TZNAME:CEST
DTSTART:20240331T010000
END:DAYLIGHT
BEGIN:STANDARD
TZOFFSETFROM:+0200
TZOFFSETTO:+0100
TZNAME:CET
DTSTART:20241027T010000
END:STANDARD
BEGIN:DAYLIGHT
TZOFFSETFROM:+0100
TZOFFSETTO:+0200
TZNAME:CEST
DTSTART:20250330T010000
END:DAYLIGHT
BEGIN:STANDARD
TZOFFSETFROM:+0200
TZOFFSETTO:+0100
TZNAME:CET
DTSTART:20251026T010000
END:STANDARD
BEGIN:DAYLIGHT
TZOFFSETFROM:+0100
TZOFFSETTO:+0200
TZNAME:CEST
DTSTART:20260329T010000
END:DAYLIGHT
BEGIN:STANDARD
TZOFFSETFROM:+0200
TZOFFSETTO:+0100
TZNAME:CET
DTSTART:20261025T010000
END:STANDARD
END:VTIMEZONE
BEGIN:VEVENT
DTSTART;TZID=Europe/Amsterdam:20250205T193000
DTEND;TZID=Europe/Amsterdam:20250205T213000
DTSTAMP:20260424T173426
CREATED:20241104T153518Z
LAST-MODIFIED:20250121T120537Z
UID:2961-1738783800-1738791000@hultzercoaching.nl
SUMMARY:Stiefmoedercafé Beinsdorp
DESCRIPTION:Bij stiefmoeder-/ samengesteldgezin coach Jeanette Hultzer aan de keukentafel in Beinsdorp (tussen Nieuw-Vennep en Hillegom en op de rand van de gemeente Haarlemmermeer en de Duin-en Bollestreek) gaan we met elkaar in gesprek en delen we onze ervaringen met het samengestelde gezin. Dit geeft erkenning en herkenning!
URL:https://hultzercoaching.nl/event/stiefmoedercafe-beinsdorp-5/
ORGANIZER;CN="Jeanette Hultzer":MAILTO:jeanette@hultzercoaching.nl
END:VEVENT
END:VCALENDAR