BEGIN:VCALENDAR
VERSION:2.0
PRODID:-//Hultzer Coaching - ECPv6.15.20//NONSGML v1.0//EN
CALSCALE:GREGORIAN
METHOD:PUBLISH
X-ORIGINAL-URL:https://hultzercoaching.nl
X-WR-CALDESC:Evenementen voor Hultzer Coaching
REFRESH-INTERVAL;VALUE=DURATION:PT1H
X-Robots-Tag:noindex
X-PUBLISHED-TTL:PT1H
BEGIN:VTIMEZONE
TZID:Europe/Amsterdam
BEGIN:DAYLIGHT
TZOFFSETFROM:+0100
TZOFFSETTO:+0200
TZNAME:CEST
DTSTART:20220327T010000
END:DAYLIGHT
BEGIN:STANDARD
TZOFFSETFROM:+0200
TZOFFSETTO:+0100
TZNAME:CET
DTSTART:20221030T010000
END:STANDARD
BEGIN:DAYLIGHT
TZOFFSETFROM:+0100
TZOFFSETTO:+0200
TZNAME:CEST
DTSTART:20230326T010000
END:DAYLIGHT
BEGIN:STANDARD
TZOFFSETFROM:+0200
TZOFFSETTO:+0100
TZNAME:CET
DTSTART:20231029T010000
END:STANDARD
BEGIN:DAYLIGHT
TZOFFSETFROM:+0100
TZOFFSETTO:+0200
TZNAME:CEST
DTSTART:20240331T010000
END:DAYLIGHT
BEGIN:STANDARD
TZOFFSETFROM:+0200
TZOFFSETTO:+0100
TZNAME:CET
DTSTART:20241027T010000
END:STANDARD
BEGIN:DAYLIGHT
TZOFFSETFROM:+0100
TZOFFSETTO:+0200
TZNAME:CEST
DTSTART:20250330T010000
END:DAYLIGHT
BEGIN:STANDARD
TZOFFSETFROM:+0200
TZOFFSETTO:+0100
TZNAME:CET
DTSTART:20251026T010000
END:STANDARD
BEGIN:DAYLIGHT
TZOFFSETFROM:+0100
TZOFFSETTO:+0200
TZNAME:CEST
DTSTART:20260329T010000
END:DAYLIGHT
BEGIN:STANDARD
TZOFFSETFROM:+0200
TZOFFSETTO:+0100
TZNAME:CET
DTSTART:20261025T010000
END:STANDARD
BEGIN:DAYLIGHT
TZOFFSETFROM:+0100
TZOFFSETTO:+0200
TZNAME:CEST
DTSTART:20270328T010000
END:DAYLIGHT
BEGIN:STANDARD
TZOFFSETFROM:+0200
TZOFFSETTO:+0100
TZNAME:CET
DTSTART:20271031T010000
END:STANDARD
END:VTIMEZONE
BEGIN:VTIMEZONE
TZID:UTC
BEGIN:STANDARD
TZOFFSETFROM:+0000
TZOFFSETTO:+0000
TZNAME:UTC
DTSTART:20220101T000000
END:STANDARD
END:VTIMEZONE
BEGIN:VTIMEZONE
TZID:Europe/Paris
BEGIN:DAYLIGHT
TZOFFSETFROM:+0100
TZOFFSETTO:+0200
TZNAME:CEST
DTSTART:20180325T010000
END:DAYLIGHT
BEGIN:STANDARD
TZOFFSETFROM:+0200
TZOFFSETTO:+0100
TZNAME:CET
DTSTART:20181028T010000
END:STANDARD
BEGIN:DAYLIGHT
TZOFFSETFROM:+0100
TZOFFSETTO:+0200
TZNAME:CEST
DTSTART:20190331T010000
END:DAYLIGHT
BEGIN:STANDARD
TZOFFSETFROM:+0200
TZOFFSETTO:+0100
TZNAME:CET
DTSTART:20191027T010000
END:STANDARD
BEGIN:DAYLIGHT
TZOFFSETFROM:+0100
TZOFFSETTO:+0200
TZNAME:CEST
DTSTART:20200329T010000
END:DAYLIGHT
BEGIN:STANDARD
TZOFFSETFROM:+0200
TZOFFSETTO:+0100
TZNAME:CET
DTSTART:20201025T010000
END:STANDARD
END:VTIMEZONE
BEGIN:VEVENT
DTSTART;TZID=Europe/Amsterdam:20260422T190000
DTEND;TZID=Europe/Amsterdam:20260422T210000
DTSTAMP:20260423T084951
CREATED:20260128T125302Z
LAST-MODIFIED:20260128T125302Z
UID:3178-1776884400-1776891600@hultzercoaching.nl
SUMMARY:Stiefmoedercafé Den Haag
DESCRIPTION:Thema: (H)erkenning!
URL:https://hultzercoaching.nl/event/stiefmoedercafe-den-haag-16/
LOCATION:Het Coachhuis\, Raamweg 4\, Den Haag\, 2596 HL\, Nederland
ORGANIZER;CN="Jeanette Hultzer":MAILTO:jeanette@hultzercoaching.nl
END:VEVENT
BEGIN:VEVENT
DTSTART;TZID=Europe/Amsterdam:20260415T190000
DTEND;TZID=Europe/Amsterdam:20260415T210000
DTSTAMP:20260423T084951
CREATED:20260128T124839Z
LAST-MODIFIED:20260128T124839Z
UID:3176-1776279600-1776286800@hultzercoaching.nl
SUMMARY:Stiefmoedercafé Beinsdorp
DESCRIPTION:Thema: (H)erkenning!
URL:https://hultzercoaching.nl/event/stiefmoedercafe-beinsdorp-10/
ORGANIZER;CN="Jeanette Hultzer":MAILTO:jeanette@hultzercoaching.nl
END:VEVENT
BEGIN:VEVENT
DTSTART;TZID=Europe/Amsterdam:20260128T180000
DTEND;TZID=Europe/Amsterdam:20260128T200000
DTSTAMP:20260423T084951
CREATED:20251020T084949Z
LAST-MODIFIED:20251020T084949Z
UID:3019-1769623200-1769630400@hultzercoaching.nl
SUMMARY:Stiefmoedercafé Den Haag
DESCRIPTION:Thema: (H)erkenning!
URL:https://hultzercoaching.nl/event/stiefmoedercafe-den-haag-15/
LOCATION:Het Coachhuis\, Raamweg 4\, Den Haag\, 2596 HL\, Nederland
ORGANIZER;CN="Jeanette Hultzer":MAILTO:jeanette@hultzercoaching.nl
END:VEVENT
BEGIN:VEVENT
DTSTART;TZID=Europe/Amsterdam:20260121T190000
DTEND;TZID=Europe/Amsterdam:20260121T210000
DTSTAMP:20260423T084951
CREATED:20251020T084802Z
LAST-MODIFIED:20251020T084802Z
UID:3017-1769022000-1769029200@hultzercoaching.nl
SUMMARY:Stiefmoedercafé Beinsdorp
DESCRIPTION:Thema: (H)erkenning!
URL:https://hultzercoaching.nl/event/stiefmoedercafe-beinsdorp-9/
ORGANIZER;CN="Jeanette Hultzer":MAILTO:jeanette@hultzercoaching.nl
END:VEVENT
BEGIN:VEVENT
DTSTART;TZID=Europe/Amsterdam:20251105T190000
DTEND;TZID=Europe/Amsterdam:20251105T210000
DTSTAMP:20260423T084951
CREATED:20250928T130133Z
LAST-MODIFIED:20250928T130133Z
UID:3014-1762369200-1762376400@hultzercoaching.nl
SUMMARY:Stiefmoedercafé Den Haag
DESCRIPTION:
URL:https://hultzercoaching.nl/event/stiefmoedercafe-den-haag-14/
LOCATION:Het Coachhuis\, Raamweg 4\, Den Haag\, 2596 HL\, Nederland
ORGANIZER;CN="Jeanette Hultzer":MAILTO:jeanette@hultzercoaching.nl
END:VEVENT
BEGIN:VEVENT
DTSTART;TZID=Europe/Amsterdam:20251029T190000
DTEND;TZID=Europe/Amsterdam:20251029T210000
DTSTAMP:20260423T084951
CREATED:20250928T130002Z
LAST-MODIFIED:20250928T130002Z
UID:3012-1761764400-1761771600@hultzercoaching.nl
SUMMARY:Stiefmoedercafé Beinsdorp
DESCRIPTION:
URL:https://hultzercoaching.nl/event/stiefmoedercafe-beinsdorp-8/
ORGANIZER;CN="Jeanette Hultzer":MAILTO:jeanette@hultzercoaching.nl
END:VEVENT
BEGIN:VEVENT
DTSTART;TZID=Europe/Amsterdam:20250917T190000
DTEND;TZID=Europe/Amsterdam:20250917T210000
DTSTAMP:20260423T084951
CREATED:20250709T083410Z
LAST-MODIFIED:20250711T071658Z
UID:3002-1758135600-1758142800@hultzercoaching.nl
SUMMARY:Stiefmoedercafé Beinsdorp
DESCRIPTION:
URL:https://hultzercoaching.nl/event/stiefmoedercafe-beinsdorp-7/
ORGANIZER;CN="Jeanette Hultzer":MAILTO:jeanette@hultzercoaching.nl
END:VEVENT
BEGIN:VEVENT
DTSTART;TZID=Europe/Amsterdam:20250910T190000
DTEND;TZID=Europe/Amsterdam:20250910T210000
DTSTAMP:20260423T084951
CREATED:20250709T083159Z
LAST-MODIFIED:20250711T071610Z
UID:3000-1757530800-1757538000@hultzercoaching.nl
SUMMARY:Stiefmoedercafé Den Haag
DESCRIPTION:
URL:https://hultzercoaching.nl/event/stiefmoedercafe-den-haag-13/
LOCATION:Het Coachhuis\, Raamweg 4\, Den Haag\, 2596 HL\, Nederland
ORGANIZER;CN="Jeanette Hultzer":MAILTO:jeanette@hultzercoaching.nl
END:VEVENT
BEGIN:VEVENT
DTSTART;TZID=Europe/Amsterdam:20250709T193000
DTEND;TZID=Europe/Amsterdam:20250709T213000
DTSTAMP:20260423T084951
CREATED:20250407T122502Z
LAST-MODIFIED:20250610T155151Z
UID:2985-1752089400-1752096600@hultzercoaching.nl
SUMMARY:Stiefmoedercafé Beinsdorp
DESCRIPTION:Thema: (H)erkenning
URL:https://hultzercoaching.nl/event/stiefmoedercafe-2-juli/
ORGANIZER;CN="Jeanette Hultzer":MAILTO:jeanette@hultzercoaching.nl
END:VEVENT
BEGIN:VEVENT
DTSTART;TZID=Europe/Amsterdam:20250702T193000
DTEND;TZID=Europe/Amsterdam:20250702T213000
DTSTAMP:20260423T084951
CREATED:20250407T122241Z
LAST-MODIFIED:20250410T120713Z
UID:2983-1751484600-1751491800@hultzercoaching.nl
SUMMARY:Stiefmoedercafé Den Haag
DESCRIPTION:Thema: (H)erkenning
URL:https://hultzercoaching.nl/event/stiefmoedercafe-den-haag-12/
LOCATION:Het Coachhuis\, Raamweg 4\, Den Haag\, 2596 HL\, Nederland
ORGANIZER;CN="Jeanette Hultzer":MAILTO:jeanette@hultzercoaching.nl
END:VEVENT
BEGIN:VEVENT
DTSTART;TZID=Europe/Amsterdam:20250409T193000
DTEND;TZID=Europe/Amsterdam:20250409T213000
DTSTAMP:20260423T084951
CREATED:20250225T132932Z
LAST-MODIFIED:20250225T132932Z
UID:2980-1744227000-1744234200@hultzercoaching.nl
SUMMARY:Stiefmoedercafé Beinsdorp
DESCRIPTION:Thema: (H)erkenning
URL:https://hultzercoaching.nl/event/stiefmoedercafe-beinsdorp-6/
END:VEVENT
BEGIN:VEVENT
DTSTART;TZID=Europe/Amsterdam:20250402T193000
DTEND;TZID=Europe/Amsterdam:20250402T213000
DTSTAMP:20260423T084951
CREATED:20250225T132648Z
LAST-MODIFIED:20250225T132648Z
UID:2978-1743622200-1743629400@hultzercoaching.nl
SUMMARY:Stiefmoedercafé Den Haag
DESCRIPTION:Thema: (H)erkenning
URL:https://hultzercoaching.nl/event/stiefmoedercafe-den-haag-11/
LOCATION:Het Coachhuis\, Raamweg 4\, Den Haag\, 2596 HL\, Nederland
END:VEVENT
BEGIN:VEVENT
DTSTART;TZID=Europe/Amsterdam:20250205T193000
DTEND;TZID=Europe/Amsterdam:20250205T213000
DTSTAMP:20260423T084951
CREATED:20241104T153518Z
LAST-MODIFIED:20250121T120537Z
UID:2961-1738783800-1738791000@hultzercoaching.nl
SUMMARY:Stiefmoedercafé Beinsdorp
DESCRIPTION:Bij stiefmoeder-/ samengesteldgezin coach Jeanette Hultzer aan de keukentafel in Beinsdorp (tussen Nieuw-Vennep en Hillegom en op de rand van de gemeente Haarlemmermeer en de Duin-en Bollestreek) gaan we met elkaar in gesprek en delen we onze ervaringen met het samengestelde gezin. Dit geeft erkenning en herkenning!
URL:https://hultzercoaching.nl/event/stiefmoedercafe-beinsdorp-5/
ORGANIZER;CN="Jeanette Hultzer":MAILTO:jeanette@hultzercoaching.nl
END:VEVENT
BEGIN:VEVENT
DTSTART;TZID=Europe/Amsterdam:20250129T193000
DTEND;TZID=Europe/Amsterdam:20250129T213000
DTSTAMP:20260423T084951
CREATED:20241104T153716Z
LAST-MODIFIED:20241104T153733Z
UID:2963-1738179000-1738186200@hultzercoaching.nl
SUMMARY:Stiefmoedercafé Den Haag
DESCRIPTION:Thema: (h)erkenning
URL:https://hultzercoaching.nl/event/stiefmoedercafe-den-haag-10/
LOCATION:Het Coachhuis\, Raamweg 4\, Den Haag\, 2596 HL\, Nederland
ORGANIZER;CN="Jeanette Hultzer":MAILTO:jeanette@hultzercoaching.nl
END:VEVENT
BEGIN:VEVENT
DTSTART;TZID=Europe/Amsterdam:20241127T193000
DTEND;TZID=Europe/Amsterdam:20241127T213000
DTSTAMP:20260423T084951
CREATED:20240926T075700Z
LAST-MODIFIED:20241003T113354Z
UID:2888-1732735800-1732743000@hultzercoaching.nl
SUMMARY:Stiefmoedercafé Den Haag met gast Nanda Poulisse
DESCRIPTION:Nanda Poulisse\, stiefmoeder en stiefdochter\, orthopedagoog en (collega-) Stiefcoach heeft een boek geschreven dat 12 oktober verschijnt: ‘Stiefwijzer. Een gids voor samengestelde gezinnen.’  We horen van Nanda over de aanleiding en totstandkoming van haar boek en gaan met elkaar in gesprek over onze ervaringen met het samengestelde gezin om zo ‘stiefwijzer’ te worden.
URL:https://hultzercoaching.nl/event/stiefmoedercafe-den-haag-271124/
LOCATION:Het Coachhuis\, Raamweg 4\, Den Haag\, 2596 HL\, Nederland
ORGANIZER;CN="Jeanette Hultzer":MAILTO:jeanette@hultzercoaching.nl
END:VEVENT
BEGIN:VEVENT
DTSTART;TZID=Europe/Amsterdam:20240925T193000
DTEND;TZID=Europe/Amsterdam:20240925T213000
DTSTAMP:20260423T084951
CREATED:20240620T122018Z
LAST-MODIFIED:20240620T122018Z
UID:2876-1727292600-1727299800@hultzercoaching.nl
SUMMARY:Stiefmoedercafé Den Haag
DESCRIPTION:Thema: (H)erkenning
URL:https://hultzercoaching.nl/event/stiefmoedercafe-den-haag-9/
LOCATION:Het Coachhuis\, Raamweg 4\, Den Haag\, 2596 HL\, Nederland
END:VEVENT
BEGIN:VEVENT
DTSTART;TZID=Europe/Amsterdam:20240918T193000
DTEND;TZID=Europe/Amsterdam:20240918T213000
DTSTAMP:20260423T084951
CREATED:20240620T121831Z
LAST-MODIFIED:20240620T121831Z
UID:2874-1726687800-1726695000@hultzercoaching.nl
SUMMARY:Stiefmoedercafé Beinsdorp
DESCRIPTION:Thema: (H)erkenning
URL:https://hultzercoaching.nl/event/stiefmoedercafe-beinsdorp-4/
END:VEVENT
BEGIN:VEVENT
DTSTART;TZID=Europe/Amsterdam:20240626T193000
DTEND;TZID=Europe/Amsterdam:20240626T213000
DTSTAMP:20260423T084951
CREATED:20240131T150336Z
LAST-MODIFIED:20240415T123444Z
UID:2852-1719430200-1719437400@hultzercoaching.nl
SUMMARY:Stiefmoedercafé Beinsdorp
DESCRIPTION:
URL:https://hultzercoaching.nl/event/stiefmoedercafe-beinsdorp-3/
ORGANIZER;CN="Jeanette Hultzer":MAILTO:jeanette@hultzercoaching.nl
END:VEVENT
BEGIN:VEVENT
DTSTART;TZID=Europe/Amsterdam:20240619T193000
DTEND;TZID=Europe/Amsterdam:20240619T213000
DTSTAMP:20260423T084951
CREATED:20240415T123615Z
LAST-MODIFIED:20240415T123615Z
UID:2864-1718825400-1718832600@hultzercoaching.nl
SUMMARY:Stiefmoedercafé Den Haag
DESCRIPTION:
URL:https://hultzercoaching.nl/event/stiefmoedercafe-den-haag-8/
LOCATION:Het Coachhuis\, Raamweg 4\, Den Haag\, 2596 HL\, Nederland
ORGANIZER;CN="Jeanette Hultzer":MAILTO:jeanette@hultzercoaching.nl
END:VEVENT
BEGIN:VEVENT
DTSTART;TZID=Europe/Amsterdam:20240410T193000
DTEND;TZID=Europe/Amsterdam:20240410T213000
DTSTAMP:20260423T084951
CREATED:20240131T150210Z
LAST-MODIFIED:20240131T150210Z
UID:2850-1712777400-1712784600@hultzercoaching.nl
SUMMARY:Stiefmoedercafé Den Haag
DESCRIPTION:
URL:https://hultzercoaching.nl/event/stiefmoedercafe-den-haag-7/
LOCATION:Het Coachhuis\, Raamweg 4\, Den Haag\, 2596 HL\, Nederland
ORGANIZER;CN="Jeanette Hultzer":MAILTO:jeanette@hultzercoaching.nl
END:VEVENT
BEGIN:VEVENT
DTSTART;TZID=Europe/Amsterdam:20240207T193000
DTEND;TZID=Europe/Amsterdam:20240207T213000
DTSTAMP:20260423T084951
CREATED:20231109T064545Z
LAST-MODIFIED:20231109T064545Z
UID:2796-1707334200-1707341400@hultzercoaching.nl
SUMMARY:Stiefmoedercafé Beinsdorp
DESCRIPTION:In het woon- en werkhuis van stiefmoedercoach Jeanette word je ontvangen voor een ontmoeting met mede-stiefmoeders/bonusmoeders. Je zal erkenning en herkenning ervaren door jouw ervaring(en) te delen met je samengestelde gezin. Hierbij krijg je inzichten en tips om er anders en beter voor jou mee om te gaan. Welkom!
URL:https://hultzercoaching.nl/event/stiefmoedercafe-beinsdorp-2/
ORGANIZER;CN="Jeanette Hultzer":MAILTO:jeanette@hultzercoaching.nl
END:VEVENT
BEGIN:VEVENT
DTSTART;TZID=Europe/Amsterdam:20240131T193000
DTEND;TZID=Europe/Amsterdam:20240131T213000
DTSTAMP:20260423T084951
CREATED:20231025T091013Z
LAST-MODIFIED:20231025T091013Z
UID:2761-1706729400-1706736600@hultzercoaching.nl
SUMMARY:Stiefmoedercafé Den Haag
DESCRIPTION:
URL:https://hultzercoaching.nl/event/stiefmoedercafe-den-haag-6/
LOCATION:Het Coachhuis\, Raamweg 4\, Den Haag\, 2596 HL\, Nederland
ORGANIZER;CN="Jeanette Hultzer":MAILTO:jeanette@hultzercoaching.nl
END:VEVENT
BEGIN:VEVENT
DTSTART;TZID=Europe/Amsterdam:20231108T193000
DTEND;TZID=Europe/Amsterdam:20231108T213000
DTSTAMP:20260423T084951
CREATED:20230907T100155Z
LAST-MODIFIED:20230907T100155Z
UID:2734-1699471800-1699479000@hultzercoaching.nl
SUMMARY:Stiefmoedercafé Beinsdorp
DESCRIPTION:Op de grens van de gemeente Haarlemmermeer en Duin-en Bollenstreek ligt Beinsdorp\, waar ik woon en werk. Graag ontvang ik je voor erkenning en herkenning van jouw bonusmoederrol.
URL:https://hultzercoaching.nl/event/stiefmoedercafe-beinsdorp/
END:VEVENT
BEGIN:VEVENT
DTSTART;TZID=UTC:20231011T193000
DTEND;TZID=UTC:20231011T213000
DTSTAMP:20260423T084951
CREATED:20230621T065930Z
LAST-MODIFIED:20230621T065930Z
UID:2440-1697052600-1697059800@hultzercoaching.nl
SUMMARY:Stiefmoedercafé Den Haag
DESCRIPTION:
URL:https://hultzercoaching.nl/event/stiefmoedercafe-den-haag-5/
LOCATION:Het Coachhuis\, Raamweg 4\, Den Haag\, 2596 HL\, Nederland
END:VEVENT
BEGIN:VEVENT
DTSTART;TZID=UTC:20230927T193000
DTEND;TZID=UTC:20230927T213000
DTSTAMP:20260423T084951
CREATED:20230621T070313Z
LAST-MODIFIED:20230731T115920Z
UID:2442-1695843000-1695850200@hultzercoaching.nl
SUMMARY:Stiefmoedercafé Noordwijk-Binnen @Liefdewerk
DESCRIPTION:Deze editie zijn we te gast bij spiritueel café (alcoholvrij) Liefdewerk van Angela Roelen in Noordwijk-Binnen\, Kerkstraat 40a.
URL:https://hultzercoaching.nl/event/stiefmoedercafe-noordwijk-binnen-liefdewerk/
ORGANIZER;CN="Jeanette Hultzer":MAILTO:jeanette@hultzercoaching.nl
END:VEVENT
BEGIN:VEVENT
DTSTART;TZID=UTC:20230920T193000
DTEND;TZID=UTC:20230920T213000
DTSTAMP:20260423T084951
CREATED:20230616T075915Z
LAST-MODIFIED:20230616T080119Z
UID:2436-1695238200-1695245400@hultzercoaching.nl
SUMMARY:Stiefmoedercafé Amsterdam met thema: (h)erkenning
DESCRIPTION:
URL:https://hultzercoaching.nl/event/stiefmoedercafe-amsterdam-6/
LOCATION:Lokatie Laurier\, Laurierstraat 62\, Amsterdam\, 1016 PN\, Nederland
ORGANIZER;CN="Jeanette Hultzer":MAILTO:jeanette@hultzercoaching.nl
END:VEVENT
BEGIN:VEVENT
DTSTART;TZID=Europe/Amsterdam:20230614T193000
DTEND;TZID=Europe/Amsterdam:20230614T213000
DTSTAMP:20260423T084951
CREATED:20230124T124910Z
LAST-MODIFIED:20230519T080020Z
UID:1551-1686771000-1686778200@hultzercoaching.nl
SUMMARY:Stiefmoedercafé Den Haag met thema: (H)erkenning
DESCRIPTION:
URL:https://hultzercoaching.nl/event/stiefmoedercafe-den-haag-met-thema-herkenning-2/
LOCATION:Het Coachhuis\, Raamweg 4\, Den Haag\, 2596 HL\, Nederland
CATEGORIES:Stiefmoedercafe
ORGANIZER;CN="Jeanette Hultzer":MAILTO:jeanette@hultzercoaching.nl
END:VEVENT
BEGIN:VEVENT
DTSTART;TZID=Europe/Amsterdam:20230524T193000
DTEND;TZID=Europe/Amsterdam:20230524T213000
DTSTAMP:20260423T084951
CREATED:20230515T053801Z
LAST-MODIFIED:20230516T073004Z
UID:1755-1684956600-1684963800@hultzercoaching.nl
SUMMARY:Stiefmoedercafé Amsterdam met thema: (H)erkenning
DESCRIPTION:
URL:https://hultzercoaching.nl/event/stiefmoedercafe-amsterdam-met-thema-herkenning-2/
LOCATION:Lokatie Laurier\, Laurierstraat 62\, Amsterdam\, 1016 PN\, Nederland
CATEGORIES:Stiefmoedercafe
ORGANIZER;CN="Jeanette Hultzer":MAILTO:jeanette@hultzercoaching.nl
END:VEVENT
BEGIN:VEVENT
DTSTART;TZID=UTC:20230118T193000
DTEND;TZID=UTC:20230118T213000
DTSTAMP:20260423T084951
CREATED:20230504T102120Z
LAST-MODIFIED:20230516T054349Z
UID:193-1674070200-1674077400@hultzercoaching.nl
SUMMARY:Stiefmoedercafé Den Haag met thema: (H)erkenning
DESCRIPTION:Thema: erkenning en herkenning. Waar wil jij erkenning voor? Wat vind je lastig en uitdagend aan jouw bonusmoederrol en samengestelde gezin? Door hierover uit te wisselen met elkaar ervaar je erkenning en herkenning en ga je positief geladen en met tips weer huiswaarts: Stiefpositief!
URL:https://hultzercoaching.nl/event/stiefmoedercafe-den-haag-met-thema-herkenning/
END:VEVENT
BEGIN:VEVENT
DTSTART;TZID=Europe/Paris:20190130T200000
DTEND;TZID=Europe/Paris:20190130T213000
DTSTAMP:20260423T084951
CREATED:20190121T135551Z
LAST-MODIFIED:20190121T135551Z
UID:393-1548878400-1548883800@hultzercoaching.nl
SUMMARY:Stiefmoedercafé Amsterdam ‘Stiefsucces’
DESCRIPTION:Gast: Stiefvader\, stiefcoach en auteur van ‘Stiefsucces’
URL:https://hultzercoaching.nl/event/stiefmoedercafe-amsterdam-stiefsucces/
CATEGORIES:Stiefmoedercafe
END:VEVENT
END:VCALENDAR